BEGIN:VCALENDAR
VERSION:2.0
PRODID:SchoolNow
CALSCALE:GREGORIAN
BEGIN:VEVENT
UID:fb01ffc0-bbe9-11f0-a407-0ea09a38d599
DTSTAMP:20260420T100008Z
SUMMARY:Christmas Break
URL;VALUE=URI:https://www.gblions.org/bgpes/calendar/8783022/christmas-brea
 k
DTSTART;VALUE=DATE:20251222
DTEND;VALUE=DATE:20260105
END:VEVENT
END:VCALENDAR
