BEGIN:VCALENDAR
VERSION:2.0
PRODID:SchoolNow
CALSCALE:GREGORIAN
BEGIN:VEVENT
UID:85e257a2-ed6d-11f0-a188-0a58a9feac02
DTSTAMP:20260420T100008Z
SUMMARY:PTO Meeting @BGP
URL;VALUE=URI:https://www.gblions.org/bgpes/calendar/8833272/pto-meeting-bg
 p
DTSTART:20260112T223000Z
DTEND:20260112T233000Z
END:VEVENT
END:VCALENDAR
