BEGIN:VCALENDAR
VERSION:2.0
PRODID:SchoolNow
CALSCALE:GREGORIAN
BEGIN:VEVENT
UID:85e29816-ed6d-11f0-9d15-0a58a9feac02
DTSTAMP:20260420T100008Z
SUMMARY:MLK DAY - No School
URL;VALUE=URI:https://www.gblions.org/bgpes/calendar/8833273/mlk-day-no-sch
 ool
DTSTART;VALUE=DATE:20260119
DTEND;VALUE=DATE:20260120
END:VEVENT
END:VCALENDAR
