BEGIN:VCALENDAR
VERSION:2.0
PRODID:SchoolNow
CALSCALE:GREGORIAN
BEGIN:VEVENT
UID:85e29a82-ed6d-11f0-9552-0a58a9feac02
DTSTAMP:20260420T100008Z
SUMMARY:BOE Meeting HS
URL;VALUE=URI:https://www.gblions.org/bgpes/calendar/8833274/boe-meeting-hs
DTSTART:20260105T223000Z
DTEND:20260106T000000Z
END:VEVENT
END:VCALENDAR
