BEGIN:VCALENDAR
VERSION:2.0
PRODID:SchoolNow
CALSCALE:GREGORIAN
BEGIN:VEVENT
UID:85e29be0-ed6d-11f0-9cbb-0a58a9feac02
DTSTAMP:20260420T100008Z
SUMMARY:Welcome back to school!
URL;VALUE=URI:https://www.gblions.org/bgpes/calendar/8833275/welcome-back-t
 o-school
DTSTART;VALUE=DATE:20260105
DTEND;VALUE=DATE:20260106
END:VEVENT
END:VCALENDAR
