BEGIN:VCALENDAR
VERSION:2.0
PRODID:SchoolNow
CALSCALE:GREGORIAN
BEGIN:VEVENT
UID:b30931da-fb26-11f0-b363-0e1661708811
DTSTAMP:20260420T100008Z
SUMMARY:St. Valentines Day
URL;VALUE=URI:https://www.gblions.org/bgpes/calendar/8844239/st-valentines-
 day
DTSTART;VALUE=DATE:20260214
DTEND;VALUE=DATE:20260215
END:VEVENT
END:VCALENDAR
