BEGIN:VCALENDAR
VERSION:2.0
PRODID:SchoolNow
CALSCALE:GREGORIAN
BEGIN:VEVENT
UID:b30935cc-fb26-11f0-83e4-0e1661708811
DTSTAMP:20260420T100008Z
SUMMARY:Spelling Bee
URL;VALUE=URI:https://www.gblions.org/bgpes/calendar/8844240/spelling-bee
DTSTART:20260130T173000Z
DTEND:20260130T183000Z
END:VEVENT
END:VCALENDAR
