BEGIN:VCALENDAR
VERSION:2.0
PRODID:SchoolNow
CALSCALE:GREGORIAN
BEGIN:VEVENT
UID:b3093784-fb26-11f0-8d6d-0e1661708811
DTSTAMP:20260420T100008Z
SUMMARY:Report cards Go Home
URL;VALUE=URI:https://www.gblions.org/bgpes/calendar/8844241/report-cards-g
 o-home
DTSTART;VALUE=DATE:20260130
DTEND;VALUE=DATE:20260131
END:VEVENT
END:VCALENDAR
