BEGIN:VCALENDAR
VERSION:2.0
PRODID:SchoolNow
CALSCALE:GREGORIAN
BEGIN:VEVENT
UID:b30939c8-fb26-11f0-b81a-0e1661708811
DTSTAMP:20260420T100008Z
SUMMARY:PTO Meeting at Dexter
URL;VALUE=URI:https://www.gblions.org/bgpes/calendar/8844242/pto-meeting-at
 -dexter
DTSTART:20260209T223000Z
DTEND:20260209T230000Z
END:VEVENT
END:VCALENDAR
