BEGIN:VCALENDAR
VERSION:2.0
PRODID:SchoolNow
CALSCALE:GREGORIAN
BEGIN:VEVENT
UID:b3093b62-fb26-11f0-9ef5-0e1661708811
DTSTAMP:20260420T100008Z
SUMMARY:Winter recess
URL;VALUE=URI:https://www.gblions.org/bgpes/calendar/8844243/winter-recess
DTSTART;VALUE=DATE:20260216
DTEND;VALUE=DATE:20260221
END:VEVENT
END:VCALENDAR
