BEGIN:VCALENDAR
VERSION:2.0
PRODID:SchoolNow
CALSCALE:GREGORIAN
BEGIN:VEVENT
UID:b3093cc0-fb26-11f0-8bff-0e1661708811
DTSTAMP:20260420T100008Z
SUMMARY:BOE Meeting @ Dexter
URL;VALUE=URI:https://www.gblions.org/bgpes/calendar/8844244/boe-meeting-de
 xter
DTSTART:20260202T223000Z
DTEND:20260202T233000Z
END:VEVENT
END:VCALENDAR
