BEGIN:VCALENDAR
VERSION:2.0
PRODID:SchoolNow
CALSCALE:GREGORIAN
BEGIN:VEVENT
UID:dc0c3818-0dda-11f1-80be-0a58a9feac02
DTSTAMP:20260420T100008Z
SUMMARY:NYS Grade 5 & 8 Science Test
URL;VALUE=URI:https://www.gblions.org/bgpes/calendar/8861125/nys-grade-5-8-
 science-test
DTSTART;VALUE=DATE:20260512
DTEND;VALUE=DATE:20260513
END:VEVENT
END:VCALENDAR
