BEGIN:VCALENDAR
VERSION:2.0
PRODID:SchoolNow
CALSCALE:GREGORIAN
BEGIN:VEVENT
UID:385e9e38-12a1-11f1-a3f6-0a58a9feac02
DTSTAMP:20260420T100008Z
SUMMARY:Board of Ed meeting
LOCATION:Gb High school
URL;VALUE=URI:https://www.gblions.org/bgpes/calendar/8871871/board-of-ed-me
 eting
DTSTART:20260309T213000Z
DTEND:20260309T223000Z
END:VEVENT
END:VCALENDAR
