BEGIN:VCALENDAR
VERSION:2.0
PRODID:SchoolNow
CALSCALE:GREGORIAN
BEGIN:VEVENT
UID:385ea7e8-12a1-11f1-b9f0-0a58a9feac02
DTSTAMP:20260420T100008Z
SUMMARY:PTO Meeting
URL;VALUE=URI:https://www.gblions.org/bgpes/calendar/8871872/pto-meeting
DTSTART:20260309T213000Z
DTEND:20260309T223000Z
END:VEVENT
END:VCALENDAR
