BEGIN:VCALENDAR
VERSION:2.0
PRODID:SchoolNow
CALSCALE:GREGORIAN
BEGIN:VEVENT
UID:385ea98c-12a1-11f1-b547-0a58a9feac02
DTSTAMP:20260420T100008Z
SUMMARY:St. Patricks Day
URL;VALUE=URI:https://www.gblions.org/bgpes/calendar/8871873/st-patricks-da
 y
DTSTART;VALUE=DATE:20260317
DTEND;VALUE=DATE:20260318
END:VEVENT
END:VCALENDAR
