BEGIN:VCALENDAR
VERSION:2.0
PRODID:SchoolNow
CALSCALE:GREGORIAN
BEGIN:VEVENT
UID:385eaad6-12a1-11f1-b78a-0a58a9feac02
DTSTAMP:20260420T100008Z
SUMMARY:Read Across America
URL;VALUE=URI:https://www.gblions.org/bgpes/calendar/8871874/read-across-am
 erica
DTSTART;VALUE=DATE:20260302
DTEND;VALUE=DATE:20260303
END:VEVENT
END:VCALENDAR
