BEGIN:VCALENDAR
VERSION:2.0
PRODID:SchoolNow
CALSCALE:GREGORIAN
BEGIN:VEVENT
UID:385eac02-12a1-11f1-a47b-0a58a9feac02
DTSTAMP:20260420T100008Z
SUMMARY:Dodge Ball Tournament grades 4-6 HS Main Gym
URL;VALUE=URI:https://www.gblions.org/bgpes/calendar/8871875/dodge-ball-tou
 rnament-grades-4-6-hs-main-gym
DTSTART:20260313T220000Z
DTEND:20260314T000000Z
END:VEVENT
END:VCALENDAR
