BEGIN:VCALENDAR
VERSION:2.0
PRODID:SchoolNow
CALSCALE:GREGORIAN
BEGIN:VEVENT
UID:aa405a00-1fc1-11f1-bbd4-0ee0273b6e39
DTSTAMP:20260420T100008Z
SUMMARY:General Brown Early Release Day JSHS 10:30 & Grades K-6 @ 11:30
URL;VALUE=URI:https://www.gblions.org/bgpes/calendar/8917967/general-brown-
 early-release-day-jshs-10-30-grades-k-6-11-30
DTSTART;VALUE=DATE:20260320
DTEND;VALUE=DATE:20260321
END:VEVENT
END:VCALENDAR
