BEGIN:VCALENDAR
VERSION:2.0
PRODID:SchoolNow
CALSCALE:GREGORIAN
BEGIN:VEVENT
UID:d2ffcb22-2883-11f1-8c5e-0a58a9feac02
DTSTAMP:20260420T100008Z
SUMMARY:Talent Show
URL;VALUE=URI:https://www.gblions.org/bgpes/calendar/8945435/talent-show
DTSTART:20260423T220000Z
DTEND:20260423T230000Z
END:VEVENT
END:VCALENDAR
