BEGIN:VCALENDAR
VERSION:2.0
PRODID:SchoolNow
CALSCALE:GREGORIAN
BEGIN:VEVENT
UID:d2ffed14-2883-11f1-a6a7-0a58a9feac02
DTSTAMP:20260420T100008Z
SUMMARY:BOE Meeting
URL;VALUE=URI:https://www.gblions.org/bgpes/calendar/8945436/boe-meeting
DTSTART:20260413T213000Z
DTEND:20260413T223000Z
END:VEVENT
END:VCALENDAR
