BEGIN:VCALENDAR
VERSION:2.0
PRODID:SchoolNow
CALSCALE:GREGORIAN
BEGIN:VEVENT
UID:d2ffeec2-2883-11f1-8ca3-0a58a9feac02
DTSTAMP:20260420T100008Z
SUMMARY:Spring Recess
URL;VALUE=URI:https://www.gblions.org/bgpes/calendar/8945437/spring-recess
DTSTART;VALUE=DATE:20260406
DTEND;VALUE=DATE:20260411
END:VEVENT
END:VCALENDAR
