BEGIN:VCALENDAR
VERSION:2.0
PRODID:SchoolNow
CALSCALE:GREGORIAN
BEGIN:VEVENT
UID:d2fff02a-2883-11f1-a210-0a58a9feac02
DTSTAMP:20260420T100008Z
SUMMARY:Good Friday - no school
URL;VALUE=URI:https://www.gblions.org/bgpes/calendar/8945438/good-friday-no
 -school
DTSTART;VALUE=DATE:20260403
DTEND;VALUE=DATE:20260404
END:VEVENT
END:VCALENDAR
