BEGIN:VCALENDAR
VERSION:2.0
PRODID:SchoolNow
CALSCALE:GREGORIAN
BEGIN:VEVENT
UID:d2fff1f6-2883-11f1-a6da-0a58a9feac02
DTSTAMP:20260420T100008Z
SUMMARY:Report Cards are distributed
URL;VALUE=URI:https://www.gblions.org/bgpes/calendar/8945439/report-cards-a
 re-distributed
DTSTART;VALUE=DATE:20260417
DTEND;VALUE=DATE:20260418
END:VEVENT
END:VCALENDAR
