BEGIN:VCALENDAR
VERSION:2.0
PRODID:SchoolNow
CALSCALE:GREGORIAN
BEGIN:VEVENT
UID:ac82eaf8-3a88-11f1-bb61-0a58a9feac02
DTSTAMP:20260422T074010Z
SUMMARY:Cycle Day 2
URL;VALUE=URI:https://www.gblions.org/calendar/9000976/cycle-day-2
DTSTART;VALUE=DATE:20260423
DTEND;VALUE=DATE:20260424
END:VEVENT
END:VCALENDAR
