BEGIN:VCALENDAR
VERSION:2.0
PRODID:SchoolNow
CALSCALE:GREGORIAN
BEGIN:VEVENT
UID:ac82f2f0-3a88-11f1-80ef-0a58a9feac02
DTSTAMP:20260421T072011Z
SUMMARY:Cycle Day 1
URL;VALUE=URI:https://www.gblions.org/calendar/9000977/cycle-day-1
DTSTART;VALUE=DATE:20260422
DTEND;VALUE=DATE:20260423
END:VEVENT
END:VCALENDAR
