BEGIN:VCALENDAR
VERSION:2.0
PRODID:SchoolNow
CALSCALE:GREGORIAN
BEGIN:VEVENT
UID:ac82f494-3a88-11f1-807d-0a58a9feac02
DTSTAMP:20260422T074010Z
SUMMARY:Cycle Day 3
URL;VALUE=URI:https://www.gblions.org/calendar/9000978/cycle-day-3
DTSTART;VALUE=DATE:20260424
DTEND;VALUE=DATE:20260425
END:VEVENT
END:VCALENDAR
