BEGIN:VCALENDAR
VERSION:2.0
PRODID:SchoolNow
CALSCALE:GREGORIAN
BEGIN:VEVENT
UID:8d89d0d8-3cec-11f1-9d9e-0e31de2fba1f
DTSTAMP:20260423T080011Z
SUMMARY:Cycle Day 5
URL;VALUE=URI:https://www.gblions.org/calendar/9007506/cycle-day-5
DTSTART;VALUE=DATE:20260428
DTEND;VALUE=DATE:20260429
END:VEVENT
END:VCALENDAR
