BEGIN:VCALENDAR
VERSION:2.0
PRODID:SchoolNow
CALSCALE:GREGORIAN
BEGIN:VEVENT
UID:8d89f6bc-3cec-11f1-a083-0e31de2fba1f
DTSTAMP:20260424T082011Z
SUMMARY:Cycle Day 6
URL;VALUE=URI:https://www.gblions.org/calendar/9007507/cycle-day-6
DTSTART;VALUE=DATE:20260429
DTEND;VALUE=DATE:20260430
END:VEVENT
END:VCALENDAR
