BEGIN:VCALENDAR
VERSION:2.0
PRODID:SchoolNow
CALSCALE:GREGORIAN
BEGIN:VEVENT
UID:8d89f87e-3cec-11f1-be1e-0e31de2fba1f
DTSTAMP:20260423T080011Z
SUMMARY:Cycle Day 4
URL;VALUE=URI:https://www.gblions.org/calendar/9007508/cycle-day-4
DTSTART;VALUE=DATE:20260427
DTEND;VALUE=DATE:20260428
END:VEVENT
END:VCALENDAR
