BEGIN:VCALENDAR
VERSION:2.0
PRODID:SchoolNow
CALSCALE:GREGORIAN
BEGIN:VEVENT
UID:82e18eba-3db8-11f1-ae82-0a58a9feac02
DTSTAMP:20260425T084012Z
SUMMARY:Cycle Day 1
URL;VALUE=URI:https://www.gblions.org/calendar/9009678/cycle-day-1
DTSTART;VALUE=DATE:20260430
DTEND;VALUE=DATE:20260501
END:VEVENT
END:VCALENDAR
