BEGIN:VCALENDAR
VERSION:2.0
PRODID:SchoolNow
CALSCALE:GREGORIAN
BEGIN:VEVENT
UID:dda8cbd6-3d10-11f1-b225-024466b36755
DTSTAMP:20260422T120007Z
SUMMARY:Board of Education Meeting
URL;VALUE=URI:https://www.gblions.org/des/calendar/9008102/board-of-educati
 on-meeting
DTSTART:20260511T213000Z
DTEND:20260511T223000Z
END:VEVENT
END:VCALENDAR
