BEGIN:VCALENDAR
VERSION:2.0
PRODID:SchoolNow
CALSCALE:GREGORIAN
BEGIN:VEVENT
UID:dda8ce4c-3d10-11f1-b356-024466b36755
DTSTAMP:20260422T120007Z
SUMMARY:Annual Meeting/Budget Hearing
URL;VALUE=URI:https://www.gblions.org/des/calendar/9008103/annual-meeting-b
 udget-hearing
DTSTART:20260511T220000Z
DTEND:20260511T230000Z
END:VEVENT
END:VCALENDAR
