BEGIN:VCALENDAR
VERSION:2.0
PRODID:SchoolNow
CALSCALE:GREGORIAN
BEGIN:VEVENT
UID:dda8cfc8-3d10-11f1-8671-024466b36755
DTSTAMP:20260422T120007Z
SUMMARY:PTO Meeting
LOCATION:Dexter Elementary Library
URL;VALUE=URI:https://www.gblions.org/des/calendar/9008104/pto-meeting
DTSTART:20260504T213000Z
DTEND:20260504T223000Z
END:VEVENT
END:VCALENDAR
