BEGIN:VCALENDAR
VERSION:2.0
PRODID:SchoolNow
CALSCALE:GREGORIAN
BEGIN:VEVENT
UID:397abcb4-634e-11f0-9bd2-0a58a9feac02
DTSTAMP:20260424T221104Z
SUMMARY:Jr. National Honor Society
LOCATION:General Brown Jr/Sr High School-1-Auditorium 112 (200)
URL;VALUE=URI:https://www.gblions.org/jshs/calendar/8424722/jr-national-hon
 or-society
DTSTART:20260129T230000Z
DTEND:20260130T000000Z
END:VEVENT
END:VCALENDAR
