BEGIN:VCALENDAR
VERSION:2.0
PRODID:SchoolNow
CALSCALE:GREGORIAN
BEGIN:VEVENT
UID:397abdae-634e-11f0-8183-0a58a9feac02
DTSTAMP:20260424T221104Z
SUMMARY:HS Theater Production
LOCATION:General Brown Jr/Sr High School-1-Auditorium 112 (200)
URL;VALUE=URI:https://www.gblions.org/jshs/calendar/8424723/hs-theater-prod
 uction
DTSTART:20260306T230000Z
DTEND:20260307T020000Z
END:VEVENT
END:VCALENDAR
