BEGIN:VCALENDAR
VERSION:2.0
PRODID:SchoolNow
CALSCALE:GREGORIAN
BEGIN:VEVENT
UID:397abea8-634e-11f0-ae70-0a58a9feac02
DTSTAMP:20260424T221104Z
SUMMARY:HS Theatre Production
LOCATION:General Brown Jr/Sr High School-1-Auditorium 112 (200)
URL;VALUE=URI:https://www.gblions.org/jshs/calendar/8424724/hs-theatre-prod
 uction
DTSTART:20260307T050000Z
DTEND:20260308T050000Z
END:VEVENT
END:VCALENDAR
