BEGIN:VCALENDAR
VERSION:2.0
PRODID:SchoolNow
CALSCALE:GREGORIAN
BEGIN:VEVENT
UID:397ac24a-634e-11f0-b402-0a58a9feac02
DTSTAMP:20260424T221104Z
SUMMARY:NYS Grades 3-8 Math Exam
URL;VALUE=URI:https://www.gblions.org/jshs/calendar/8424728/nys-grades-3-8-
 math-exam
DTSTART;VALUE=DATE:20260505
DTEND;VALUE=DATE:20260507
END:VEVENT
END:VCALENDAR
