BEGIN:VCALENDAR
VERSION:2.0
PRODID:SchoolNow
CALSCALE:GREGORIAN
BEGIN:VEVENT
UID:397ac326-634e-11f0-8a7c-0a58a9feac02
DTSTAMP:20260424T221104Z
SUMMARY:Senior Prom
LOCATION:Windmill Acres\, Barn Wedding Venue\, 21866 Old Rome State Rd\, Wa
 tertown\, NY 13601\, USA
URL;VALUE=URI:https://www.gblions.org/jshs/calendar/8424729/senior-prom
DTSTART:20260509T230000Z
DTEND:20260510T020000Z
END:VEVENT
END:VCALENDAR
