BEGIN:VCALENDAR
VERSION:2.0
PRODID:SchoolNow
CALSCALE:GREGORIAN
BEGIN:VEVENT
UID:397ac40c-634e-11f0-acfb-0a58a9feac02
DTSTAMP:20260420T084101Z
SUMMARY:NYS Grade 8 Science Test
URL;VALUE=URI:https://www.gblions.org/jshs/calendar/8424730/nys-grade-8-sci
 ence-test
DTSTART:20260513T153000Z
DTEND:20260513T183000Z
END:VEVENT
END:VCALENDAR
