BEGIN:VCALENDAR
VERSION:2.0
PRODID:SchoolNow
CALSCALE:GREGORIAN
BEGIN:VEVENT
UID:397ac4f2-634e-11f0-8ac4-0a58a9feac02
DTSTAMP:20260424T221104Z
SUMMARY:School Budget Vote
URL;VALUE=URI:https://www.gblions.org/jshs/calendar/8424731/school-budget-v
 ote
DTSTART:20260519T160000Z
DTEND:20260520T000000Z
END:VEVENT
END:VCALENDAR
