BEGIN:VCALENDAR
VERSION:2.0
PRODID:SchoolNow
CALSCALE:GREGORIAN
BEGIN:VEVENT
UID:397ac5d8-634e-11f0-9f21-0a58a9feac02
DTSTAMP:20260424T221104Z
SUMMARY:Jr. and Sr. High Band Spring Concert
LOCATION:General Brown Jr/Sr High School-1-Auditorium 112 (200)
URL;VALUE=URI:https://www.gblions.org/jshs/calendar/8424732/jr-and-sr-high-
 band-spring-concert
DTSTART:20260519T220000Z
DTEND:20260519T230000Z
END:VEVENT
END:VCALENDAR
