BEGIN:VCALENDAR
VERSION:2.0
PRODID:SchoolNow
CALSCALE:GREGORIAN
BEGIN:VEVENT
UID:397ac6b4-634e-11f0-b21d-0a58a9feac02
DTSTAMP:20260424T221104Z
SUMMARY:Dance Company Recital
LOCATION:General Brown Jr/Sr High School-1-Auditorium 112 (200)
URL;VALUE=URI:https://www.gblions.org/jshs/calendar/8424733/dance-company-r
 ecital
DTSTART:20260520T220000Z
DTEND:20260520T230000Z
END:VEVENT
END:VCALENDAR
