BEGIN:VCALENDAR
VERSION:2.0
PRODID:SchoolNow
CALSCALE:GREGORIAN
BEGIN:VEVENT
UID:397ac79a-634e-11f0-8ce8-0a58a9feac02
DTSTAMP:20260424T221104Z
SUMMARY:Jr. and Sr. High Spring Choral Concert
LOCATION:General Brown Jr/Sr High School-1-Auditorium 112 (200)
URL;VALUE=URI:https://www.gblions.org/jshs/calendar/8424734/jr-and-sr-high-
 spring-choral-concert
DTSTART:20260528T220000Z
DTEND:20260528T230000Z
END:VEVENT
END:VCALENDAR
