BEGIN:VCALENDAR
VERSION:2.0
PRODID:SchoolNow
CALSCALE:GREGORIAN
BEGIN:VEVENT
UID:397ac876-634e-11f0-9e7f-0a58a9feac02
DTSTAMP:20260424T221104Z
SUMMARY:7th & 8th Grade Awards Night
LOCATION:General Brown Jr/Sr High School-1-Auditorium 112 (200)
URL;VALUE=URI:https://www.gblions.org/jshs/calendar/8424735/7th-8th-grade-a
 wards-night
DTSTART:20260604T220000Z
DTEND:20260604T230000Z
END:VEVENT
END:VCALENDAR
