BEGIN:VCALENDAR
VERSION:2.0
PRODID:SchoolNow
CALSCALE:GREGORIAN
BEGIN:VEVENT
UID:397ac95c-634e-11f0-afe8-0a58a9feac02
DTSTAMP:20260424T221104Z
SUMMARY:Regents Examinations
URL;VALUE=URI:https://www.gblions.org/jshs/calendar/8424736/regents-examina
 tions
DTSTART;VALUE=DATE:20260609
DTEND;VALUE=DATE:20260611
END:VEVENT
END:VCALENDAR
