BEGIN:VCALENDAR
VERSION:2.0
PRODID:SchoolNow
CALSCALE:GREGORIAN
BEGIN:VEVENT
UID:397aca42-634e-11f0-addd-0a58a9feac02
DTSTAMP:20260424T221104Z
SUMMARY:Senior Awards Night
LOCATION:General Brown Jr/Sr High School-1-Auditorium 112 (200)
URL;VALUE=URI:https://www.gblions.org/jshs/calendar/8424737/senior-awards-n
 ight
DTSTART:20260611T220000Z
DTEND:20260611T230000Z
END:VEVENT
END:VCALENDAR
