BEGIN:VCALENDAR
VERSION:2.0
PRODID:SchoolNow
CALSCALE:GREGORIAN
BEGIN:VEVENT
UID:397acb1e-634e-11f0-aeb0-0a58a9feac02
DTSTAMP:20260424T221104Z
SUMMARY:Last Day for students
URL;VALUE=URI:https://www.gblions.org/jshs/calendar/8424738/last-day-for-st
 udents
DTSTART:20260616T110000Z
DTEND:20260616T160000Z
END:VEVENT
END:VCALENDAR
