BEGIN:VCALENDAR
VERSION:2.0
PRODID:SchoolNow
CALSCALE:GREGORIAN
BEGIN:VEVENT
UID:397accea-634e-11f0-92a9-0a58a9feac02
DTSTAMP:20260424T221104Z
SUMMARY:Regents Examinations
URL;VALUE=URI:https://www.gblions.org/jshs/calendar/8424740/regents-examina
 tions
DTSTART;VALUE=DATE:20260622
DTEND;VALUE=DATE:20260626
END:VEVENT
END:VCALENDAR
