BEGIN:VCALENDAR
VERSION:2.0
PRODID:SchoolNow
CALSCALE:GREGORIAN
BEGIN:VEVENT
UID:397acdc6-634e-11f0-a285-0a58a9feac02
DTSTAMP:20260424T221104Z
SUMMARY:Graduation
URL;VALUE=URI:https://www.gblions.org/jshs/calendar/8424741/graduation
DTSTART;VALUE=DATE:20260618
DTEND;VALUE=DATE:20260619
END:VEVENT
END:VCALENDAR
