BEGIN:VCALENDAR
VERSION:2.0
PRODID:SchoolNow
CALSCALE:GREGORIAN
BEGIN:VEVENT
UID:397aceac-634e-11f0-8835-0a58a9feac02
DTSTAMP:20260424T221104Z
SUMMARY:August Regents
URL;VALUE=URI:https://www.gblions.org/jshs/calendar/8424742/august-regents
DTSTART;VALUE=DATE:20260818
DTEND;VALUE=DATE:20260820
END:VEVENT
END:VCALENDAR
